BEGIN:VCALENDAR
VERSION:2.0
PRODID:-//Yemi Adeeko - ECPv6.15.11//NONSGML v1.0//EN
CALSCALE:GREGORIAN
METHOD:PUBLISH
X-WR-CALNAME:Yemi Adeeko
X-ORIGINAL-URL:http://www.yemiadeeko.com
X-WR-CALDESC:Events for Yemi Adeeko
REFRESH-INTERVAL;VALUE=DURATION:PT1H
X-Robots-Tag:noindex
X-PUBLISHED-TTL:PT1H
BEGIN:VTIMEZONE
TZID:UTC
BEGIN:STANDARD
TZOFFSETFROM:+0000
TZOFFSETTO:+0000
TZNAME:UTC
DTSTART:20150101T000000
END:STANDARD
END:VTIMEZONE
BEGIN:VEVENT
DTSTART;TZID=UTC:20190518T110000
DTEND;TZID=UTC:20190518T160000
DTSTAMP:20260423T152802
CREATED:20190430T015223Z
LAST-MODIFIED:20190430T015223Z
UID:12135-1558177200-1558195200@www.yemiadeeko.com
SUMMARY:Glorious Women Conference
DESCRIPTION:
URL:http://www.yemiadeeko.com/event/glorious-women-conference/
LOCATION:Holiday Inn Express\, Holiday Inn\, Bugsby's Way Greenwich \, London\, SE10 0GD\, United Kingdom
END:VEVENT
BEGIN:VEVENT
DTSTART;TZID=UTC:20190223T100000
DTEND;TZID=UTC:20190223T160000
DTSTAMP:20260423T152802
CREATED:20190222T025213Z
LAST-MODIFIED:20190222T025313Z
UID:12130-1550916000-1550937600@www.yemiadeeko.com
SUMMARY:Training & Workshop- Children & Youth Workers
DESCRIPTION:For more information :
URL:http://www.yemiadeeko.com/event/training-workshop-children-youth-workers/
CATEGORIES:Workshop
ATTACH;FMTTYPE=image/jpeg:http://www.yemiadeeko.com/wp-content/uploads/2019/02/WhatsApp-Image-2019-02-17-at-12.42.04-1.jpeg
END:VEVENT
BEGIN:VEVENT
DTSTART;TZID=UTC:20171003T210000
DTEND;TZID=UTC:20171003T210000
DTSTAMP:20260423T152802
CREATED:20171004T045258Z
LAST-MODIFIED:20171004T045435Z
UID:12105-1507064400-1507064400@www.yemiadeeko.com
SUMMARY:Christian Business Forum
DESCRIPTION:3rd YEAR ANNIVERSARY \nPromoting Business Excellence Integrity and Leadership
URL:http://www.yemiadeeko.com/event/christian-business-forum/
LOCATION:London
CATEGORIES:Networking
ATTACH;FMTTYPE=image/jpeg:http://www.yemiadeeko.com/wp-content/uploads/2017/10/EVENT.jpeg
END:VEVENT
BEGIN:VEVENT
DTSTART;TZID=UTC:20170513T094500
DTEND;TZID=UTC:20170513T133000
DTSTAMP:20260423T152802
CREATED:20170510T100653Z
LAST-MODIFIED:20170510T100653Z
UID:12099-1494668700-1494682200@www.yemiadeeko.com
SUMMARY:Hope Mums
DESCRIPTION:
URL:http://www.yemiadeeko.com/event/hope-mums/
LOCATION:Long Ridings Primary School\, CM13 1DU\, Brentwood\, United Kingdom
CATEGORIES:Motivational
ATTACH;FMTTYPE=image/jpeg:http://www.yemiadeeko.com/wp-content/uploads/2017/05/event-may.jpeg
ORGANIZER;CN="":MAILTO:louise@hopecommunity-church.org.uk
END:VEVENT
BEGIN:VEVENT
DTSTART;TZID=UTC:20170311T160000
DTEND;TZID=UTC:20170311T180000
DTSTAMP:20260423T152802
CREATED:20170310T150317Z
LAST-MODIFIED:20170310T150317Z
UID:12093-1489248000-1489255200@www.yemiadeeko.com
SUMMARY:Build Your Image
DESCRIPTION:
URL:http://www.yemiadeeko.com/event/build-your-image/
LOCATION:City Gates Church\, 25-29 Clements Road\, IG1 1BH\, Ilford\, United Kingdom
ATTACH;FMTTYPE=image/jpeg:http://www.yemiadeeko.com/wp-content/uploads/2017/03/Building-your-image.jpeg
END:VEVENT
BEGIN:VEVENT
DTSTART;TZID=UTC:20170219T103000
DTEND;TZID=UTC:20170219T170000
DTSTAMP:20260423T152802
CREATED:20170215T053307Z
LAST-MODIFIED:20170215T053307Z
UID:12088-1487500200-1487523600@www.yemiadeeko.com
SUMMARY:Theme: "Love is a verb"
DESCRIPTION:
URL:http://www.yemiadeeko.com/event/theme-love-is-a-verb/
LOCATION:Christ Church Morton Hall Lawson Place\, Bury St Edmunds IP32 7EW\, United Kingdom
CATEGORIES:Networking
ATTACH;FMTTYPE=image/jpeg:http://www.yemiadeeko.com/wp-content/uploads/2017/02/Theme.jpg
END:VEVENT
BEGIN:VEVENT
DTSTART;TZID=UTC:20170218T140000
DTEND;TZID=UTC:20170218T170000
DTSTAMP:20260423T152802
CREATED:20170215T052511Z
LAST-MODIFIED:20170215T052554Z
UID:12084-1487426400-1487437200@www.yemiadeeko.com
SUMMARY:Building The Image
DESCRIPTION:
URL:http://www.yemiadeeko.com/event/building-the-image/
LOCATION:Nevendon Park\, Behind Wickford Fire Station\,\,  Wickford\, SS12 0QH\, United Kingdom
CATEGORIES:Motivational
ATTACH;FMTTYPE=image/jpeg:http://www.yemiadeeko.com/wp-content/uploads/2017/02/eventfeb.jpeg
END:VEVENT
BEGIN:VEVENT
DTSTART;TZID=UTC:20170128T093000
DTEND;TZID=UTC:20170128T140000
DTSTAMP:20260423T152802
CREATED:20170124T095524Z
LAST-MODIFIED:20170124T100850Z
UID:12077-1485595800-1485612000@www.yemiadeeko.com
SUMMARY:Theme: Burden for the Nation
DESCRIPTION:
URL:http://www.yemiadeeko.com/event/theme-burden-for-the-nation/
LOCATION:Unit 2\, Movement House\, Jax Works\, Hertford Road\, Barking\, IG11 8DY\, United Kingdom
CATEGORIES:Networking
ATTACH;FMTTYPE=image/jpeg:http://www.yemiadeeko.com/wp-content/uploads/2017/01/Burden-for-the-Nation.jpeg
END:VEVENT
BEGIN:VEVENT
DTSTART;TZID=UTC:20161211T140000
DTEND;TZID=UTC:20161211T160000
DTSTAMP:20260423T152802
CREATED:20161208T193731Z
LAST-MODIFIED:20161208T193827Z
UID:12067-1481464800-1481472000@www.yemiadeeko.com
SUMMARY:2017 ... your best year yet!
DESCRIPTION:
URL:http://www.yemiadeeko.com/event/2017-your-best-year-yet/
LOCATION:Nevendon Park\, Nevendon Park\, BehindWickford Fire Station\, Wickford\, SS12 0QH\, United Kingdom
CATEGORIES:Motivational
ATTACH;FMTTYPE=image/jpeg:http://www.yemiadeeko.com/wp-content/uploads/2016/12/WhatsApp-Image-2016-12-08-at-12.35.11-PM.jpeg
END:VEVENT
BEGIN:VEVENT
DTSTART;TZID=UTC:20161210T160000
DTEND;TZID=UTC:20161210T180000
DTSTAMP:20260423T152802
CREATED:20161209T070205Z
LAST-MODIFIED:20161209T070205Z
UID:12073-1481385600-1481392800@www.yemiadeeko.com
SUMMARY:Make 2017 The Best Year
DESCRIPTION:
URL:http://www.yemiadeeko.com/event/make-2017-the-best-year/
LOCATION:City Gates Church\, 25-29 Clements Road\, IG1 1BH\, Ilford\, United Kingdom
CATEGORIES:Networking
END:VEVENT
END:VCALENDAR